BEGIN:VCALENDAR
VERSION:2.0
PRODID:-//Doc's Place - ECPv6.15.20//NONSGML v1.0//EN
CALSCALE:GREGORIAN
METHOD:PUBLISH
X-ORIGINAL-URL:https://docsplacelebanonohio.com/site
X-WR-CALDESC:Events for Doc's Place
REFRESH-INTERVAL;VALUE=DURATION:PT1H
X-Robots-Tag:noindex
X-PUBLISHED-TTL:PT1H
BEGIN:VTIMEZONE
TZID:UTC
BEGIN:STANDARD
TZOFFSETFROM:+0000
TZOFFSETTO:+0000
TZNAME:UTC
DTSTART:20250101T000000
END:STANDARD
END:VTIMEZONE
BEGIN:VEVENT
DTSTART;TZID=UTC:20260606T100000
DTEND;TZID=UTC:20260606T180000
DTSTAMP:20260419T123628
CREATED:20260318T210223Z
LAST-MODIFIED:20260318T210223Z
UID:664-1780740000-1780768800@docsplacelebanonohio.com
SUMMARY:Downtown Lebanon Festival Of Arts
DESCRIPTION:
URL:https://docsplacelebanonohio.com/site/event/downtown-lebanon-festival-of-arts/
END:VEVENT
BEGIN:VEVENT
DTSTART;TZID=UTC:20260606T190000
DTEND;TZID=UTC:20260606T220000
DTSTAMP:20260419T123628
CREATED:20260318T183017Z
LAST-MODIFIED:20260318T183017Z
UID:596-1780772400-1780783200@docsplacelebanonohio.com
SUMMARY:Live Music - Austin Rutherford
DESCRIPTION:
URL:https://docsplacelebanonohio.com/site/event/live-music-austin-rutherford/
END:VEVENT
END:VCALENDAR