BEGIN:VCALENDAR
VERSION:2.0
PRODID:-//Doc's Place - ECPv6.15.20//NONSGML v1.0//EN
CALSCALE:GREGORIAN
METHOD:PUBLISH
X-WR-CALNAME:Doc's Place
X-ORIGINAL-URL:https://docsplacelebanonohio.com/site
X-WR-CALDESC:Events for Doc's Place
REFRESH-INTERVAL;VALUE=DURATION:PT1H
X-Robots-Tag:noindex
X-PUBLISHED-TTL:PT1H
BEGIN:VTIMEZONE
TZID:UTC
BEGIN:STANDARD
TZOFFSETFROM:+0000
TZOFFSETTO:+0000
TZNAME:UTC
DTSTART:20250101T000000
END:STANDARD
END:VTIMEZONE
BEGIN:VEVENT
DTSTART;TZID=UTC:20260713T190000
DTEND;TZID=UTC:20260713T210000
DTSTAMP:20260421T095140
CREATED:20260314T154353Z
LAST-MODIFIED:20260314T154353Z
UID:435-1783969200-1783976400@docsplacelebanonohio.com
SUMMARY:General Knowledge Trivia
DESCRIPTION:
URL:https://docsplacelebanonohio.com/site/event/general-knowledge-trivia-30/
END:VEVENT
END:VCALENDAR