BEGIN:VCALENDAR
VERSION:2.0
PRODID:-//Doc's Place - ECPv6.15.20//NONSGML v1.0//EN
CALSCALE:GREGORIAN
METHOD:PUBLISH
X-ORIGINAL-URL:https://docsplacelebanonohio.com/site
X-WR-CALDESC:Events for Doc's Place
REFRESH-INTERVAL;VALUE=DURATION:PT1H
X-Robots-Tag:noindex
X-PUBLISHED-TTL:PT1H
BEGIN:VTIMEZONE
TZID:UTC
BEGIN:STANDARD
TZOFFSETFROM:+0000
TZOFFSETTO:+0000
TZNAME:UTC
DTSTART:20250101T000000
END:STANDARD
END:VTIMEZONE
BEGIN:VEVENT
DTSTART;VALUE=DATE:20260926
DTEND;VALUE=DATE:20260928
DTSTAMP:20260423T002020
CREATED:20260319T023908Z
LAST-MODIFIED:20260319T023908Z
UID:693-1790380800-1790553599@docsplacelebanonohio.com
SUMMARY:Lebanon Country Applefest
DESCRIPTION:
URL:https://docsplacelebanonohio.com/site/event/lebanon-country-applefest/
END:VEVENT
END:VCALENDAR