BEGIN:VCALENDAR
VERSION:2.0
PRODID:-//Doc's Place - ECPv6.15.20//NONSGML v1.0//EN
CALSCALE:GREGORIAN
METHOD:PUBLISH
X-WR-CALNAME:Doc's Place
X-ORIGINAL-URL:https://docsplacelebanonohio.com/site
X-WR-CALDESC:Events for Doc's Place
REFRESH-INTERVAL;VALUE=DURATION:PT1H
X-Robots-Tag:noindex
X-PUBLISHED-TTL:PT1H
BEGIN:VTIMEZONE
TZID:UTC
BEGIN:STANDARD
TZOFFSETFROM:+0000
TZOFFSETTO:+0000
TZNAME:UTC
DTSTART:20250101T000000
END:STANDARD
END:VTIMEZONE
BEGIN:VEVENT
DTSTART;TZID=UTC:20261114T190000
DTEND;TZID=UTC:20261114T220000
DTSTAMP:20260420T040710
CREATED:20260318T204106Z
LAST-MODIFIED:20260318T204106Z
UID:644-1794682800-1794693600@docsplacelebanonohio.com
SUMMARY:Live Music - Lynn Beatty
DESCRIPTION:
URL:https://docsplacelebanonohio.com/site/event/live-music-lynn-beatty-2/
END:VEVENT
BEGIN:VEVENT
DTSTART;TZID=UTC:20261116T190000
DTEND;TZID=UTC:20261116T210000
DTSTAMP:20260420T040710
CREATED:20260314T155152Z
LAST-MODIFIED:20260314T155152Z
UID:471-1794855600-1794862800@docsplacelebanonohio.com
SUMMARY:General Knowledge Trivia
DESCRIPTION:
URL:https://docsplacelebanonohio.com/site/event/general-knowledge-trivia-48/
END:VEVENT
BEGIN:VEVENT
DTSTART;TZID=UTC:20261118T190000
DTEND;TZID=UTC:20261118T220000
DTSTAMP:20260420T040710
CREATED:20260314T161203Z
LAST-MODIFIED:20260314T161203Z
UID:561-1795028400-1795039200@docsplacelebanonohio.com
SUMMARY:Open Mic
DESCRIPTION:
URL:https://docsplacelebanonohio.com/site/event/open-mic-34/
END:VEVENT
BEGIN:VEVENT
DTSTART;TZID=UTC:20261120T190000
DTEND;TZID=UTC:20261120T220000
DTSTAMP:20260420T040710
CREATED:20260318T204213Z
LAST-MODIFIED:20260318T204213Z
UID:646-1795201200-1795212000@docsplacelebanonohio.com
SUMMARY:Live Music - Love Unplugged
DESCRIPTION:
URL:https://docsplacelebanonohio.com/site/event/live-music-love-unplugged-2/
END:VEVENT
BEGIN:VEVENT
DTSTART;TZID=UTC:20261123T190000
DTEND;TZID=UTC:20261123T210000
DTSTAMP:20260420T040710
CREATED:20260314T155216Z
LAST-MODIFIED:20260314T155216Z
UID:473-1795460400-1795467600@docsplacelebanonohio.com
SUMMARY:General Knowledge Trivia
DESCRIPTION:
URL:https://docsplacelebanonohio.com/site/event/general-knowledge-trivia-49/
END:VEVENT
BEGIN:VEVENT
DTSTART;TZID=UTC:20261125T190000
DTEND;TZID=UTC:20261125T220000
DTSTAMP:20260420T040710
CREATED:20260314T161251Z
LAST-MODIFIED:20260314T161251Z
UID:563-1795633200-1795644000@docsplacelebanonohio.com
SUMMARY:Open Mic
DESCRIPTION:
URL:https://docsplacelebanonohio.com/site/event/open-mic-35/
END:VEVENT
BEGIN:VEVENT
DTSTART;VALUE=DATE:20261126
DTEND;VALUE=DATE:20261127
DTSTAMP:20260420T040710
CREATED:20260314T155439Z
LAST-MODIFIED:20260314T155439Z
UID:485-1795651200-1795737599@docsplacelebanonohio.com
SUMMARY:Happy Thanksgiving - Closed
DESCRIPTION:
URL:https://docsplacelebanonohio.com/site/event/happy-thanksgiving-closed/
END:VEVENT
BEGIN:VEVENT
DTSTART;VALUE=DATE:20261126
DTEND;VALUE=DATE:20261127
DTSTAMP:20260420T040710
CREATED:20260318T204308Z
LAST-MODIFIED:20260318T204308Z
UID:648-1795651200-1795737599@docsplacelebanonohio.com
SUMMARY:CLOSED HAPPY THANKSGIVING
DESCRIPTION:
URL:https://docsplacelebanonohio.com/site/event/closed-happy-thanksgiving/
END:VEVENT
BEGIN:VEVENT
DTSTART;TZID=UTC:20261128T100000
DTEND;TZID=UTC:20261128T180000
DTSTAMP:20260420T040710
CREATED:20260319T030452Z
LAST-MODIFIED:20260319T030452Z
UID:702-1795860000-1795888800@docsplacelebanonohio.com
SUMMARY:Shop Small Saturday Downtown Lebanon
DESCRIPTION:
URL:https://docsplacelebanonohio.com/site/event/shop-small-saturday-downtown-lebanon/
END:VEVENT
BEGIN:VEVENT
DTSTART;TZID=UTC:20261130T190000
DTEND;TZID=UTC:20261130T210000
DTSTAMP:20260420T040710
CREATED:20260314T155239Z
LAST-MODIFIED:20260314T155239Z
UID:475-1796065200-1796072400@docsplacelebanonohio.com
SUMMARY:General Knowledge Trivia
DESCRIPTION:
URL:https://docsplacelebanonohio.com/site/event/general-knowledge-trivia-50/
END:VEVENT
BEGIN:VEVENT
DTSTART;TZID=UTC:20261202T190000
DTEND;TZID=UTC:20261202T220000
DTSTAMP:20260420T040710
CREATED:20260314T161312Z
LAST-MODIFIED:20260314T161312Z
UID:565-1796238000-1796248800@docsplacelebanonohio.com
SUMMARY:Open Mic
DESCRIPTION:
URL:https://docsplacelebanonohio.com/site/event/open-mic-36/
END:VEVENT
BEGIN:VEVENT
DTSTART;VALUE=DATE:20261205
DTEND;VALUE=DATE:20261206
DTSTAMP:20260420T040710
CREATED:20260319T030621Z
LAST-MODIFIED:20260319T030621Z
UID:704-1796428800-1796515199@docsplacelebanonohio.com
SUMMARY:Lebanon Horse-Drawn Carriage Parade & Festival Downtown Lebanon
DESCRIPTION:
URL:https://docsplacelebanonohio.com/site/event/lebanon-horse-drawn-carriage-parade-festival-downtown-lebanon/
END:VEVENT
BEGIN:VEVENT
DTSTART;TZID=UTC:20261207T190000
DTEND;TZID=UTC:20261207T210000
DTSTAMP:20260420T040710
CREATED:20260314T155303Z
LAST-MODIFIED:20260314T155303Z
UID:477-1796670000-1796677200@docsplacelebanonohio.com
SUMMARY:General Knowledge Trivia
DESCRIPTION:
URL:https://docsplacelebanonohio.com/site/event/general-knowledge-trivia-51/
END:VEVENT
BEGIN:VEVENT
DTSTART;TZID=UTC:20261209T190000
DTEND;TZID=UTC:20261209T220000
DTSTAMP:20260420T040711
CREATED:20260314T161331Z
LAST-MODIFIED:20260314T161331Z
UID:567-1796842800-1796853600@docsplacelebanonohio.com
SUMMARY:Open Mic
DESCRIPTION:
URL:https://docsplacelebanonohio.com/site/event/open-mic-37/
END:VEVENT
BEGIN:VEVENT
DTSTART;TZID=UTC:20261212T190000
DTEND;TZID=UTC:20261212T220000
DTSTAMP:20260420T040711
CREATED:20260318T204442Z
LAST-MODIFIED:20260318T204442Z
UID:650-1797102000-1797112800@docsplacelebanonohio.com
SUMMARY:Live Music - 9Eight Central
DESCRIPTION:
URL:https://docsplacelebanonohio.com/site/event/live-music-9eight-central-2/
END:VEVENT
BEGIN:VEVENT
DTSTART;TZID=UTC:20261214T190000
DTEND;TZID=UTC:20261214T210000
DTSTAMP:20260420T040711
CREATED:20260314T155324Z
LAST-MODIFIED:20260314T155324Z
UID:479-1797274800-1797282000@docsplacelebanonohio.com
SUMMARY:General Knowledge Trivia
DESCRIPTION:
URL:https://docsplacelebanonohio.com/site/event/general-knowledge-trivia-52/
END:VEVENT
BEGIN:VEVENT
DTSTART;TZID=UTC:20261216T190000
DTEND;TZID=UTC:20261216T220000
DTSTAMP:20260420T040711
CREATED:20260314T161351Z
LAST-MODIFIED:20260314T161351Z
UID:569-1797447600-1797458400@docsplacelebanonohio.com
SUMMARY:Open Mic
DESCRIPTION:
URL:https://docsplacelebanonohio.com/site/event/open-mic-38/
END:VEVENT
BEGIN:VEVENT
DTSTART;TZID=UTC:20261218T190000
DTEND;TZID=UTC:20261218T220000
DTSTAMP:20260420T040711
CREATED:20260318T204544Z
LAST-MODIFIED:20260318T204544Z
UID:652-1797620400-1797631200@docsplacelebanonohio.com
SUMMARY:Live Music - Amy Newhart
DESCRIPTION:
URL:https://docsplacelebanonohio.com/site/event/live-music-amy-newhart-3/
END:VEVENT
BEGIN:VEVENT
DTSTART;TZID=UTC:20261221T190000
DTEND;TZID=UTC:20261221T210000
DTSTAMP:20260420T040711
CREATED:20260314T155345Z
LAST-MODIFIED:20260314T155345Z
UID:481-1797879600-1797886800@docsplacelebanonohio.com
SUMMARY:General Knowledge Trivia
DESCRIPTION:
URL:https://docsplacelebanonohio.com/site/event/general-knowledge-trivia-53/
END:VEVENT
BEGIN:VEVENT
DTSTART;TZID=UTC:20261223T190000
DTEND;TZID=UTC:20261223T220000
DTSTAMP:20260420T040711
CREATED:20260314T161410Z
LAST-MODIFIED:20260314T161410Z
UID:571-1798052400-1798063200@docsplacelebanonohio.com
SUMMARY:Open Mic
DESCRIPTION:
URL:https://docsplacelebanonohio.com/site/event/open-mic-39/
END:VEVENT
BEGIN:VEVENT
DTSTART;VALUE=DATE:20261225
DTEND;VALUE=DATE:20261226
DTSTAMP:20260420T040711
CREATED:20260314T155459Z
LAST-MODIFIED:20260314T155459Z
UID:487-1798156800-1798243199@docsplacelebanonohio.com
SUMMARY:Merry Christmas - Closed
DESCRIPTION:
URL:https://docsplacelebanonohio.com/site/event/merry-christmas-closed/
END:VEVENT
BEGIN:VEVENT
DTSTART;VALUE=DATE:20261225
DTEND;VALUE=DATE:20261226
DTSTAMP:20260420T040711
CREATED:20260318T204709Z
LAST-MODIFIED:20260318T204709Z
UID:654-1798156800-1798243199@docsplacelebanonohio.com
SUMMARY:CLOSED MERRY CHRISTMAS
DESCRIPTION:
URL:https://docsplacelebanonohio.com/site/event/closed-merry-christmas/
END:VEVENT
BEGIN:VEVENT
DTSTART;TZID=UTC:20261228T190000
DTEND;TZID=UTC:20261228T210000
DTSTAMP:20260420T040711
CREATED:20260314T155406Z
LAST-MODIFIED:20260314T155406Z
UID:483-1798484400-1798491600@docsplacelebanonohio.com
SUMMARY:General Knowledge Trivia
DESCRIPTION:
URL:https://docsplacelebanonohio.com/site/event/general-knowledge-trivia-54/
END:VEVENT
BEGIN:VEVENT
DTSTART;TZID=UTC:20261230T190000
DTEND;TZID=UTC:20261230T220000
DTSTAMP:20260420T040711
CREATED:20260314T161440Z
LAST-MODIFIED:20260314T161440Z
UID:573-1798657200-1798668000@docsplacelebanonohio.com
SUMMARY:Open Mic
DESCRIPTION:
URL:https://docsplacelebanonohio.com/site/event/open-mic-40/
END:VEVENT
BEGIN:VEVENT
DTSTART;VALUE=DATE:20261231
DTEND;VALUE=DATE:20270101
DTSTAMP:20260420T040711
CREATED:20260314T160844Z
LAST-MODIFIED:20260314T160844Z
UID:553-1798675200-1798761599@docsplacelebanonohio.com
SUMMARY:New Years Eve!
DESCRIPTION:
URL:https://docsplacelebanonohio.com/site/event/new-years-eve-2/
END:VEVENT
END:VCALENDAR