BEGIN:VCALENDAR
VERSION:2.0
PRODID:-//Doc's Place - ECPv6.15.20//NONSGML v1.0//EN
CALSCALE:GREGORIAN
METHOD:PUBLISH
X-WR-CALNAME:Doc's Place
X-ORIGINAL-URL:https://docsplacelebanonohio.com/site
X-WR-CALDESC:Events for Doc's Place
REFRESH-INTERVAL;VALUE=DURATION:PT1H
X-Robots-Tag:noindex
X-PUBLISHED-TTL:PT1H
BEGIN:VTIMEZONE
TZID:UTC
BEGIN:STANDARD
TZOFFSETFROM:+0000
TZOFFSETTO:+0000
TZNAME:UTC
DTSTART:20250101T000000
END:STANDARD
END:VTIMEZONE
BEGIN:VEVENT
DTSTART;TZID=UTC:20260729T190000
DTEND;TZID=UTC:20260729T220000
DTSTAMP:20260419T183719
CREATED:20260314T160315Z
LAST-MODIFIED:20260314T160315Z
UID:525-1785351600-1785362400@docsplacelebanonohio.com
SUMMARY:Open Mic
DESCRIPTION:
URL:https://docsplacelebanonohio.com/site/event/open-mic-18/
END:VEVENT
BEGIN:VEVENT
DTSTART;VALUE=DATE:20260731
DTEND;VALUE=DATE:20260802
DTSTAMP:20260419T183719
CREATED:20260319T023413Z
LAST-MODIFIED:20260319T023413Z
UID:685-1785456000-1785628799@docsplacelebanonohio.com
SUMMARY:Lebanon Blues Festival Downtown Lebanon
DESCRIPTION:
URL:https://docsplacelebanonohio.com/site/event/lebanon-blues-festival-downtown-lebanon/
END:VEVENT
BEGIN:VEVENT
DTSTART;TZID=UTC:20260731T190000
DTEND;TZID=UTC:20260731T220000
DTSTAMP:20260419T183719
CREATED:20260318T195117Z
LAST-MODIFIED:20260318T195117Z
UID:612-1785524400-1785535200@docsplacelebanonohio.com
SUMMARY:Live Music - Kevin Fox
DESCRIPTION:
URL:https://docsplacelebanonohio.com/site/event/live-music-kevin-fox/
END:VEVENT
BEGIN:VEVENT
DTSTART;TZID=UTC:20260801T190000
DTEND;TZID=UTC:20260801T220000
DTSTAMP:20260419T183719
CREATED:20260318T195620Z
LAST-MODIFIED:20260318T195620Z
UID:614-1785610800-1785621600@docsplacelebanonohio.com
SUMMARY:Live Music - Trio Bob Dellaposta Gene Jestice Jesse Otterson
DESCRIPTION:
URL:https://docsplacelebanonohio.com/site/event/live-music-trio-bob-dellaposta-gene-jestice-jesse-otterson/
END:VEVENT
BEGIN:VEVENT
DTSTART;TZID=UTC:20260803T190000
DTEND;TZID=UTC:20260803T210000
DTSTAMP:20260419T183719
CREATED:20260314T154526Z
LAST-MODIFIED:20260314T154526Z
UID:441-1785783600-1785790800@docsplacelebanonohio.com
SUMMARY:General Knowledge Trivia
DESCRIPTION:
URL:https://docsplacelebanonohio.com/site/event/general-knowledge-trivia-33/
END:VEVENT
BEGIN:VEVENT
DTSTART;TZID=UTC:20260805T190000
DTEND;TZID=UTC:20260805T220000
DTSTAMP:20260419T183719
CREATED:20260314T160350Z
LAST-MODIFIED:20260314T160350Z
UID:527-1785956400-1785967200@docsplacelebanonohio.com
SUMMARY:Open Mic
DESCRIPTION:
URL:https://docsplacelebanonohio.com/site/event/open-mic-19/
END:VEVENT
BEGIN:VEVENT
DTSTART;TZID=UTC:20260807T190000
DTEND;TZID=UTC:20260807T220000
DTSTAMP:20260419T183719
CREATED:20260318T195746Z
LAST-MODIFIED:20260318T195746Z
UID:616-1786129200-1786140000@docsplacelebanonohio.com
SUMMARY:Live Music - Kevin McCoy
DESCRIPTION:
URL:https://docsplacelebanonohio.com/site/event/live-music-kevin-mccoy/
END:VEVENT
BEGIN:VEVENT
DTSTART;TZID=UTC:20260810T190000
DTEND;TZID=UTC:20260810T210000
DTSTAMP:20260419T183719
CREATED:20260314T154546Z
LAST-MODIFIED:20260314T154546Z
UID:443-1786388400-1786395600@docsplacelebanonohio.com
SUMMARY:General Knowledge Trivia
DESCRIPTION:
URL:https://docsplacelebanonohio.com/site/event/general-knowledge-trivia-34/
END:VEVENT
BEGIN:VEVENT
DTSTART;TZID=UTC:20260812T190000
DTEND;TZID=UTC:20260812T220000
DTSTAMP:20260419T183719
CREATED:20260314T160407Z
LAST-MODIFIED:20260314T160407Z
UID:529-1786561200-1786572000@docsplacelebanonohio.com
SUMMARY:Open Mic
DESCRIPTION:
URL:https://docsplacelebanonohio.com/site/event/open-mic-20/
END:VEVENT
BEGIN:VEVENT
DTSTART;TZID=UTC:20260815T190000
DTEND;TZID=UTC:20260815T220000
DTSTAMP:20260419T183719
CREATED:20260318T200044Z
LAST-MODIFIED:20260318T201410Z
UID:618-1786820400-1786831200@docsplacelebanonohio.com
SUMMARY:Live Music - Creep It Real
DESCRIPTION:
URL:https://docsplacelebanonohio.com/site/event/creep-it-real/
END:VEVENT
BEGIN:VEVENT
DTSTART;TZID=UTC:20260817T190000
DTEND;TZID=UTC:20260817T210000
DTSTAMP:20260419T183719
CREATED:20260314T154610Z
LAST-MODIFIED:20260314T154610Z
UID:445-1786993200-1787000400@docsplacelebanonohio.com
SUMMARY:General Knowledge Trivia
DESCRIPTION:
URL:https://docsplacelebanonohio.com/site/event/general-knowledge-trivia-35/
END:VEVENT
BEGIN:VEVENT
DTSTART;TZID=UTC:20260819T190000
DTEND;TZID=UTC:20260819T220000
DTSTAMP:20260419T183719
CREATED:20260314T160424Z
LAST-MODIFIED:20260314T160424Z
UID:531-1787166000-1787176800@docsplacelebanonohio.com
SUMMARY:Open Mic
DESCRIPTION:
URL:https://docsplacelebanonohio.com/site/event/open-mic-21/
END:VEVENT
BEGIN:VEVENT
DTSTART;TZID=UTC:20260821T170000
DTEND;TZID=UTC:20260821T230000
DTSTAMP:20260419T183719
CREATED:20260319T023512Z
LAST-MODIFIED:20260319T023512Z
UID:687-1787331600-1787353200@docsplacelebanonohio.com
SUMMARY:Third Friday Downtown Lebanon
DESCRIPTION:
URL:https://docsplacelebanonohio.com/site/event/third-friday-downtown-lebanon-2/
END:VEVENT
BEGIN:VEVENT
DTSTART;TZID=UTC:20260821T190000
DTEND;TZID=UTC:20260821T220000
DTSTAMP:20260419T183719
CREATED:20260318T201555Z
LAST-MODIFIED:20260318T201555Z
UID:622-1787338800-1787349600@docsplacelebanonohio.com
SUMMARY:Live Music - Rebecca Lynn
DESCRIPTION:
URL:https://docsplacelebanonohio.com/site/event/live-music-rebecca-lynn/
END:VEVENT
BEGIN:VEVENT
DTSTART;TZID=UTC:20260824T190000
DTEND;TZID=UTC:20260824T210000
DTSTAMP:20260419T183719
CREATED:20260314T154635Z
LAST-MODIFIED:20260314T154635Z
UID:447-1787598000-1787605200@docsplacelebanonohio.com
SUMMARY:General Knowledge Trivia
DESCRIPTION:
URL:https://docsplacelebanonohio.com/site/event/general-knowledge-trivia-36/
END:VEVENT
BEGIN:VEVENT
DTSTART;TZID=UTC:20260826T190000
DTEND;TZID=UTC:20260826T220000
DTSTAMP:20260419T183719
CREATED:20260314T160442Z
LAST-MODIFIED:20260314T160442Z
UID:533-1787770800-1787781600@docsplacelebanonohio.com
SUMMARY:Open Mic
DESCRIPTION:
URL:https://docsplacelebanonohio.com/site/event/open-mic-22/
END:VEVENT
BEGIN:VEVENT
DTSTART;TZID=UTC:20260828T190000
DTEND;TZID=UTC:20260828T220000
DTSTAMP:20260419T183719
CREATED:20260318T201749Z
LAST-MODIFIED:20260318T201749Z
UID:624-1787943600-1787954400@docsplacelebanonohio.com
SUMMARY:Live Music - Love Unplugged
DESCRIPTION:
URL:https://docsplacelebanonohio.com/site/event/live-music-love-unplugged/
END:VEVENT
BEGIN:VEVENT
DTSTART;TZID=UTC:20260831T190000
DTEND;TZID=UTC:20260831T210000
DTSTAMP:20260419T183719
CREATED:20260314T154657Z
LAST-MODIFIED:20260314T154657Z
UID:449-1788202800-1788210000@docsplacelebanonohio.com
SUMMARY:General Knowledge Trivia
DESCRIPTION:
URL:https://docsplacelebanonohio.com/site/event/general-knowledge-trivia-37/
END:VEVENT
BEGIN:VEVENT
DTSTART;TZID=UTC:20260902T190000
DTEND;TZID=UTC:20260902T220000
DTSTAMP:20260419T183719
CREATED:20260314T160502Z
LAST-MODIFIED:20260314T160502Z
UID:535-1788375600-1788386400@docsplacelebanonohio.com
SUMMARY:Open Mic
DESCRIPTION:
URL:https://docsplacelebanonohio.com/site/event/open-mic-23/
END:VEVENT
BEGIN:VEVENT
DTSTART;TZID=UTC:20260904T190000
DTEND;TZID=UTC:20260904T220000
DTSTAMP:20260419T183719
CREATED:20260318T202005Z
LAST-MODIFIED:20260318T202005Z
UID:626-1788548400-1788559200@docsplacelebanonohio.com
SUMMARY:Live Music - Lynn Beatty
DESCRIPTION:
URL:https://docsplacelebanonohio.com/site/event/live-music-lynn-beatty/
END:VEVENT
BEGIN:VEVENT
DTSTART;TZID=UTC:20260907T190000
DTEND;TZID=UTC:20260907T210000
DTSTAMP:20260419T183719
CREATED:20260314T154718Z
LAST-MODIFIED:20260314T154718Z
UID:451-1788807600-1788814800@docsplacelebanonohio.com
SUMMARY:General Knowledge Trivia
DESCRIPTION:
URL:https://docsplacelebanonohio.com/site/event/general-knowledge-trivia-38/
END:VEVENT
BEGIN:VEVENT
DTSTART;TZID=UTC:20260909T190000
DTEND;TZID=UTC:20260909T220000
DTSTAMP:20260419T183719
CREATED:20260314T160525Z
LAST-MODIFIED:20260314T160525Z
UID:537-1788980400-1788991200@docsplacelebanonohio.com
SUMMARY:Open Mic
DESCRIPTION:
URL:https://docsplacelebanonohio.com/site/event/open-mic-24/
END:VEVENT
BEGIN:VEVENT
DTSTART;TZID=UTC:20260911T190000
DTEND;TZID=UTC:20260911T220000
DTSTAMP:20260419T183719
CREATED:20260318T202100Z
LAST-MODIFIED:20260318T202100Z
UID:628-1789153200-1789164000@docsplacelebanonohio.com
SUMMARY:Live Music - Amy Newhart
DESCRIPTION:
URL:https://docsplacelebanonohio.com/site/event/live-music-amy-newhart-2/
END:VEVENT
BEGIN:VEVENT
DTSTART;TZID=UTC:20260912T160000
DTEND;TZID=UTC:20260912T210000
DTSTAMP:20260419T183719
CREATED:20260319T023609Z
LAST-MODIFIED:20260319T023609Z
UID:689-1789228800-1789246800@docsplacelebanonohio.com
SUMMARY:Girls' Night Out Downtown Lebanon
DESCRIPTION:
URL:https://docsplacelebanonohio.com/site/event/girls-night-out-downtown-lebanon-2/
END:VEVENT
BEGIN:VEVENT
DTSTART;TZID=UTC:20260914T190000
DTEND;TZID=UTC:20260914T210000
DTSTAMP:20260419T183719
CREATED:20260314T154739Z
LAST-MODIFIED:20260314T154739Z
UID:453-1789412400-1789419600@docsplacelebanonohio.com
SUMMARY:General Knowledge Trivia
DESCRIPTION:
URL:https://docsplacelebanonohio.com/site/event/general-knowledge-trivia-39/
END:VEVENT
BEGIN:VEVENT
DTSTART;TZID=UTC:20260916T190000
DTEND;TZID=UTC:20260916T220000
DTSTAMP:20260419T183719
CREATED:20260314T160542Z
LAST-MODIFIED:20260314T160542Z
UID:539-1789585200-1789596000@docsplacelebanonohio.com
SUMMARY:Open Mic
DESCRIPTION:
URL:https://docsplacelebanonohio.com/site/event/open-mic-25/
END:VEVENT
BEGIN:VEVENT
DTSTART;TZID=UTC:20260919T100000
DTEND;TZID=UTC:20260919T190000
DTSTAMP:20260419T183719
CREATED:20260319T023720Z
LAST-MODIFIED:20260319T023720Z
UID:691-1789812000-1789844400@docsplacelebanonohio.com
SUMMARY:A Fall Affair Downtown Lebanon
DESCRIPTION:
URL:https://docsplacelebanonohio.com/site/event/a-fall-affair-downtown-lebanon/
END:VEVENT
BEGIN:VEVENT
DTSTART;TZID=UTC:20260919T190000
DTEND;TZID=UTC:20260919T220000
DTSTAMP:20260419T183719
CREATED:20260318T202157Z
LAST-MODIFIED:20260318T202157Z
UID:630-1789844400-1789855200@docsplacelebanonohio.com
SUMMARY:Live Music - Farm Cat
DESCRIPTION:
URL:https://docsplacelebanonohio.com/site/event/live-music-farm-cat-2/
END:VEVENT
BEGIN:VEVENT
DTSTART;TZID=UTC:20260921T190000
DTEND;TZID=UTC:20260921T210000
DTSTAMP:20260419T183719
CREATED:20260314T154802Z
LAST-MODIFIED:20260314T154802Z
UID:455-1790017200-1790024400@docsplacelebanonohio.com
SUMMARY:General Knowledge Trivia
DESCRIPTION:
URL:https://docsplacelebanonohio.com/site/event/general-knowledge-trivia-40/
END:VEVENT
BEGIN:VEVENT
DTSTART;TZID=UTC:20260923T190000
DTEND;TZID=UTC:20260923T220000
DTSTAMP:20260419T183719
CREATED:20260314T160601Z
LAST-MODIFIED:20260314T160601Z
UID:541-1790190000-1790200800@docsplacelebanonohio.com
SUMMARY:Open Mic
DESCRIPTION:
URL:https://docsplacelebanonohio.com/site/event/open-mic-26/
END:VEVENT
END:VCALENDAR