BEGIN:VCALENDAR
VERSION:2.0
PRODID:-//Doc's Place - ECPv6.15.20//NONSGML v1.0//EN
CALSCALE:GREGORIAN
METHOD:PUBLISH
X-ORIGINAL-URL:https://docsplacelebanonohio.com/site
X-WR-CALDESC:Events for Doc's Place
REFRESH-INTERVAL;VALUE=DURATION:PT1H
X-Robots-Tag:noindex
X-PUBLISHED-TTL:PT1H
BEGIN:VTIMEZONE
TZID:UTC
BEGIN:STANDARD
TZOFFSETFROM:+0000
TZOFFSETTO:+0000
TZNAME:UTC
DTSTART:20250101T000000
END:STANDARD
END:VTIMEZONE
BEGIN:VEVENT
DTSTART;TZID=UTC:20260306T190000
DTEND;TZID=UTC:20260306T220000
DTSTAMP:20260421T165905
CREATED:20260306T204605Z
LAST-MODIFIED:20260306T204605Z
UID:383-1772823600-1772834400@docsplacelebanonohio.com
SUMMARY:Hunter McKeehan Live!
DESCRIPTION:Friday 3/6/26  7 PM \nNever a cover!!
URL:https://docsplacelebanonohio.com/site/event/hunter-mckeehan-live/
END:VEVENT
BEGIN:VEVENT
DTSTART;TZID=UTC:20260309T190000
DTEND;TZID=UTC:20260309T210000
DTSTAMP:20260421T165905
CREATED:20260308T183755Z
LAST-MODIFIED:20260308T183755Z
UID:392-1773082800-1773090000@docsplacelebanonohio.com
SUMMARY:General Knowledge Trivia
DESCRIPTION:
URL:https://docsplacelebanonohio.com/site/event/general-knowledge-trivia-12/
END:VEVENT
BEGIN:VEVENT
DTSTART;TZID=UTC:20260311T190000
DTEND;TZID=UTC:20260311T220000
DTSTAMP:20260421T165905
CREATED:20260308T184212Z
LAST-MODIFIED:20260308T184212Z
UID:400-1773255600-1773266400@docsplacelebanonohio.com
SUMMARY:Open Mic w/ Shawn Sweeney
DESCRIPTION:
URL:https://docsplacelebanonohio.com/site/event/open-mic-w-shawn-sweeney-16/
END:VEVENT
BEGIN:VEVENT
DTSTART;TZID=UTC:20260314T190000
DTEND;TZID=UTC:20260314T220000
DTSTAMP:20260421T165905
CREATED:20260307T234717Z
LAST-MODIFIED:20260307T234717Z
UID:386-1773514800-1773525600@docsplacelebanonohio.com
SUMMARY:Live Music - Vance Sowders
DESCRIPTION:
URL:https://docsplacelebanonohio.com/site/event/live-music-vance-sowders/
END:VEVENT
BEGIN:VEVENT
DTSTART;TZID=UTC:20260316T190000
DTEND;TZID=UTC:20260316T210000
DTSTAMP:20260421T165905
CREATED:20260308T183849Z
LAST-MODIFIED:20260308T183849Z
UID:394-1773687600-1773694800@docsplacelebanonohio.com
SUMMARY:General Knowledge Trivia
DESCRIPTION:
URL:https://docsplacelebanonohio.com/site/event/general-knowledge-trivia-13/
END:VEVENT
BEGIN:VEVENT
DTSTART;VALUE=DATE:20260317
DTEND;VALUE=DATE:20260318
DTSTAMP:20260421T165905
CREATED:20260314T160906Z
LAST-MODIFIED:20260314T160906Z
UID:555-1773705600-1773791999@docsplacelebanonohio.com
SUMMARY:St. Patricks Day!
DESCRIPTION:
URL:https://docsplacelebanonohio.com/site/event/st-patricks-day/
END:VEVENT
BEGIN:VEVENT
DTSTART;TZID=UTC:20260318T190000
DTEND;TZID=UTC:20260318T220000
DTSTAMP:20260421T165905
CREATED:20260308T184235Z
LAST-MODIFIED:20260308T184235Z
UID:402-1773860400-1773871200@docsplacelebanonohio.com
SUMMARY:Open Mic w/ Shawn Sweeney
DESCRIPTION:
URL:https://docsplacelebanonohio.com/site/event/open-mic-w-shawn-sweeney-17/
END:VEVENT
BEGIN:VEVENT
DTSTART;TZID=UTC:20260320T190000
DTEND;TZID=UTC:20260320T220000
DTSTAMP:20260421T165905
CREATED:20260307T234755Z
LAST-MODIFIED:20260307T234755Z
UID:388-1774033200-1774044000@docsplacelebanonohio.com
SUMMARY:Live Music - David Thornton
DESCRIPTION:
URL:https://docsplacelebanonohio.com/site/event/live-music-david-thornton-2/
END:VEVENT
BEGIN:VEVENT
DTSTART;TZID=UTC:20260323T190000
DTEND;TZID=UTC:20260323T210000
DTSTAMP:20260421T165905
CREATED:20260308T184056Z
LAST-MODIFIED:20260308T184056Z
UID:396-1774292400-1774299600@docsplacelebanonohio.com
SUMMARY:General Knowledge Trivia
DESCRIPTION:
URL:https://docsplacelebanonohio.com/site/event/general-knowledge-trivia-14/
END:VEVENT
BEGIN:VEVENT
DTSTART;TZID=UTC:20260325T190000
DTEND;TZID=UTC:20260325T220000
DTSTAMP:20260421T165905
CREATED:20260308T184303Z
LAST-MODIFIED:20260308T184303Z
UID:404-1774465200-1774476000@docsplacelebanonohio.com
SUMMARY:Open Mic w/ Shawn Sweeney
DESCRIPTION:
URL:https://docsplacelebanonohio.com/site/event/open-mic-w-shawn-sweeney-18/
END:VEVENT
BEGIN:VEVENT
DTSTART;TZID=UTC:20260328T190000
DTEND;TZID=UTC:20260328T220000
DTSTAMP:20260421T165905
CREATED:20260307T234833Z
LAST-MODIFIED:20260307T234833Z
UID:390-1774724400-1774735200@docsplacelebanonohio.com
SUMMARY:Live Music - Lauren Rismiller
DESCRIPTION:
URL:https://docsplacelebanonohio.com/site/event/live-music-lauren-rismiller/
END:VEVENT
BEGIN:VEVENT
DTSTART;TZID=UTC:20260330T190000
DTEND;TZID=UTC:20260330T210000
DTSTAMP:20260421T165905
CREATED:20260308T184131Z
LAST-MODIFIED:20260308T184131Z
UID:398-1774897200-1774904400@docsplacelebanonohio.com
SUMMARY:General Knowledge Trivia
DESCRIPTION:
URL:https://docsplacelebanonohio.com/site/event/general-knowledge-trivia-15/
END:VEVENT
END:VCALENDAR