BEGIN:VCALENDAR
VERSION:2.0
PRODID:-//Doc's Place - ECPv6.15.20//NONSGML v1.0//EN
CALSCALE:GREGORIAN
METHOD:PUBLISH
X-ORIGINAL-URL:https://docsplacelebanonohio.com/site
X-WR-CALDESC:Events for Doc's Place
REFRESH-INTERVAL;VALUE=DURATION:PT1H
X-Robots-Tag:noindex
X-PUBLISHED-TTL:PT1H
BEGIN:VTIMEZONE
TZID:UTC
BEGIN:STANDARD
TZOFFSETFROM:+0000
TZOFFSETTO:+0000
TZNAME:UTC
DTSTART:20250101T000000
END:STANDARD
END:VTIMEZONE
BEGIN:VEVENT
DTSTART;TZID=UTC:20261102T190000
DTEND;TZID=UTC:20261102T210000
DTSTAMP:20260423T012153
CREATED:20260314T155050Z
LAST-MODIFIED:20260314T155050Z
UID:467-1793646000-1793653200@docsplacelebanonohio.com
SUMMARY:General Knowledge Trivia
DESCRIPTION:
URL:https://docsplacelebanonohio.com/site/event/general-knowledge-trivia-46/
END:VEVENT
BEGIN:VEVENT
DTSTART;TZID=UTC:20261104T190000
DTEND;TZID=UTC:20261104T220000
DTSTAMP:20260423T012153
CREATED:20260314T161008Z
LAST-MODIFIED:20260314T161137Z
UID:557-1793818800-1793829600@docsplacelebanonohio.com
SUMMARY:Open Mic
DESCRIPTION:
URL:https://docsplacelebanonohio.com/site/event/open-mic-32/
END:VEVENT
BEGIN:VEVENT
DTSTART;TZID=UTC:20261109T190000
DTEND;TZID=UTC:20261109T210000
DTSTAMP:20260423T012153
CREATED:20260314T155118Z
LAST-MODIFIED:20260314T155118Z
UID:469-1794250800-1794258000@docsplacelebanonohio.com
SUMMARY:General Knowledge Trivia
DESCRIPTION:
URL:https://docsplacelebanonohio.com/site/event/general-knowledge-trivia-47/
END:VEVENT
BEGIN:VEVENT
DTSTART;TZID=UTC:20261111T190000
DTEND;TZID=UTC:20261111T220000
DTSTAMP:20260423T012153
CREATED:20260314T161029Z
LAST-MODIFIED:20260314T161029Z
UID:559-1794423600-1794434400@docsplacelebanonohio.com
SUMMARY:Open Mic
DESCRIPTION:
URL:https://docsplacelebanonohio.com/site/event/open-mic-33/
END:VEVENT
BEGIN:VEVENT
DTSTART;TZID=UTC:20261114T160000
DTEND;TZID=UTC:20261114T210000
DTSTAMP:20260423T012153
CREATED:20260319T030323Z
LAST-MODIFIED:20260319T030323Z
UID:700-1794672000-1794690000@docsplacelebanonohio.com
SUMMARY:Girls' Night Out Downtown Lebanon
DESCRIPTION:
URL:https://docsplacelebanonohio.com/site/event/girls-night-out-downtown-lebanon-3/
END:VEVENT
BEGIN:VEVENT
DTSTART;TZID=UTC:20261114T190000
DTEND;TZID=UTC:20261114T220000
DTSTAMP:20260423T012153
CREATED:20260318T204106Z
LAST-MODIFIED:20260318T204106Z
UID:644-1794682800-1794693600@docsplacelebanonohio.com
SUMMARY:Live Music - Lynn Beatty
DESCRIPTION:
URL:https://docsplacelebanonohio.com/site/event/live-music-lynn-beatty-2/
END:VEVENT
BEGIN:VEVENT
DTSTART;TZID=UTC:20261116T190000
DTEND;TZID=UTC:20261116T210000
DTSTAMP:20260423T012153
CREATED:20260314T155152Z
LAST-MODIFIED:20260314T155152Z
UID:471-1794855600-1794862800@docsplacelebanonohio.com
SUMMARY:General Knowledge Trivia
DESCRIPTION:
URL:https://docsplacelebanonohio.com/site/event/general-knowledge-trivia-48/
END:VEVENT
BEGIN:VEVENT
DTSTART;TZID=UTC:20261118T190000
DTEND;TZID=UTC:20261118T220000
DTSTAMP:20260423T012153
CREATED:20260314T161203Z
LAST-MODIFIED:20260314T161203Z
UID:561-1795028400-1795039200@docsplacelebanonohio.com
SUMMARY:Open Mic
DESCRIPTION:
URL:https://docsplacelebanonohio.com/site/event/open-mic-34/
END:VEVENT
BEGIN:VEVENT
DTSTART;TZID=UTC:20261120T190000
DTEND;TZID=UTC:20261120T220000
DTSTAMP:20260423T012153
CREATED:20260318T204213Z
LAST-MODIFIED:20260318T204213Z
UID:646-1795201200-1795212000@docsplacelebanonohio.com
SUMMARY:Live Music - Love Unplugged
DESCRIPTION:
URL:https://docsplacelebanonohio.com/site/event/live-music-love-unplugged-2/
END:VEVENT
BEGIN:VEVENT
DTSTART;TZID=UTC:20261123T190000
DTEND;TZID=UTC:20261123T210000
DTSTAMP:20260423T012153
CREATED:20260314T155216Z
LAST-MODIFIED:20260314T155216Z
UID:473-1795460400-1795467600@docsplacelebanonohio.com
SUMMARY:General Knowledge Trivia
DESCRIPTION:
URL:https://docsplacelebanonohio.com/site/event/general-knowledge-trivia-49/
END:VEVENT
BEGIN:VEVENT
DTSTART;TZID=UTC:20261125T190000
DTEND;TZID=UTC:20261125T220000
DTSTAMP:20260423T012153
CREATED:20260314T161251Z
LAST-MODIFIED:20260314T161251Z
UID:563-1795633200-1795644000@docsplacelebanonohio.com
SUMMARY:Open Mic
DESCRIPTION:
URL:https://docsplacelebanonohio.com/site/event/open-mic-35/
END:VEVENT
BEGIN:VEVENT
DTSTART;VALUE=DATE:20261126
DTEND;VALUE=DATE:20261127
DTSTAMP:20260423T012153
CREATED:20260314T155439Z
LAST-MODIFIED:20260314T155439Z
UID:485-1795651200-1795737599@docsplacelebanonohio.com
SUMMARY:Happy Thanksgiving - Closed
DESCRIPTION:
URL:https://docsplacelebanonohio.com/site/event/happy-thanksgiving-closed/
END:VEVENT
BEGIN:VEVENT
DTSTART;VALUE=DATE:20261126
DTEND;VALUE=DATE:20261127
DTSTAMP:20260423T012153
CREATED:20260318T204308Z
LAST-MODIFIED:20260318T204308Z
UID:648-1795651200-1795737599@docsplacelebanonohio.com
SUMMARY:CLOSED HAPPY THANKSGIVING
DESCRIPTION:
URL:https://docsplacelebanonohio.com/site/event/closed-happy-thanksgiving/
END:VEVENT
BEGIN:VEVENT
DTSTART;TZID=UTC:20261128T100000
DTEND;TZID=UTC:20261128T180000
DTSTAMP:20260423T012153
CREATED:20260319T030452Z
LAST-MODIFIED:20260319T030452Z
UID:702-1795860000-1795888800@docsplacelebanonohio.com
SUMMARY:Shop Small Saturday Downtown Lebanon
DESCRIPTION:
URL:https://docsplacelebanonohio.com/site/event/shop-small-saturday-downtown-lebanon/
END:VEVENT
BEGIN:VEVENT
DTSTART;TZID=UTC:20261130T190000
DTEND;TZID=UTC:20261130T210000
DTSTAMP:20260423T012153
CREATED:20260314T155239Z
LAST-MODIFIED:20260314T155239Z
UID:475-1796065200-1796072400@docsplacelebanonohio.com
SUMMARY:General Knowledge Trivia
DESCRIPTION:
URL:https://docsplacelebanonohio.com/site/event/general-knowledge-trivia-50/
END:VEVENT
END:VCALENDAR